BEGIN:VCALENDAR
VERSION:2.0
PRODID:-//hacksw/handcal//NONSGML v1.0//EN
BEGIN:VEVENT
SUMMARY:Championnat de France para-tir a l'arc
UID:1290d879-5e78-49be-99e3-574fe316be10
DTSTART:20260306T230000Z
DTEND:20260308T230000Z
LOCATION:Localisation   
CATEGORIES:Sportif
STATUS:
URL;VALUE=URI:https://arc-bassin-arcachon.sportsregions.fr/evenements/2026/03/07/championnat-de-france-para-tir-a-larc-2424915
END:VEVENT
END:VCALENDAR
